BEGIN:VCALENDAR
VERSION:2.0
PRODID:spatie/icalendar-generator
DESCRIPTION:Events from Village Hall Santon Downham
X-WR-CALDESC:Events from Village Hall Santon Downham
REFRESH-INTERVAL;VALUE=DURATION:PT1440M
X-PUBLISHED-TTL:PT1440M
BEGIN:VTIMEZONE
TZID:Etc/GMT+0
BEGIN:STANDARD
DTSTART:20240811T190000Z
TZOFFSETFROM:+0000
TZOFFSETTO:+0000
END:STANDARD
END:VTIMEZONE
BEGIN:VTIMEZONE
TZID:UTC
BEGIN:STANDARD
DTSTART:20250725T074828Z
TZOFFSETFROM:+0000
TZOFFSETTO:+0000
END:STANDARD
END:VTIMEZONE
BEGIN:VEVENT
UID:1144-177
DTSTAMP:20260421T074828Z
SUMMARY:VE Chior
LOCATION:
ORGANIZER;CN=ian_harper25:MAILTO:ian_harper25@hotmail.com
DTSTART;TZID=Etc/GMT+0:20250508T190000
DTEND;TZID=Etc/GMT+0:20250508T200000
X-ALT-DESC;FMTTYPE=TEXT/HTML:
CATEGORIES:Public Event
URL;VALUE=URI:https://villagehallsantondownham.co.uk/index.php/mc-events/ve
 -chior/
METHOD:PUBLISH
END:VEVENT
END:VCALENDAR